BEGIN:VCALENDAR
VERSION:2.0
PRODID:-//MORPh - Primary Care Training Association &amp; Network
CALSCALE:GREGORIAN
METHOD:PUBLISH
X-WR-CALNAME:MORPh - Primary Care Training Association &amp; Network
X-ORIGINAL-URL:https://morphold.kaamdaar.com/product/acute-illness-and-clinical-skills-part-2-6/
X-WR-CALDESC:Minor Ailments  in Primary Care and Clinical Examination &#8211; Part 2
BEGIN:VEVENT
DTSTART;TZID=Europe/Paris:20241016T090000
DTEND;TZID=Europe/Paris:20241016T170000
SUMMARY:Minor Ailments  in Primary Care and Clinical Examination – Part 2
DESCRIPTION:THIS EVENT IS A FACE-TO-FACE SESSION
URL:https://morphold.kaamdaar.com/product/acute-illness-and-clinical-skills-part-2-6/
LOCATION:Radisson Blu Hotel, Bristol, Broad Quay, Bristol BS1 4BY
END:VEVENT
END:VCALENDAR
