BEGIN:VCALENDAR
VERSION:2.0
PRODID:-//MORPh - Primary Care Training Association &amp; Network
CALSCALE:GREGORIAN
METHOD:PUBLISH
X-WR-CALNAME:MORPh - Primary Care Training Association &amp; Network
X-ORIGINAL-URL:https://morphold.kaamdaar.com/product/acute-illness-and-clinical-skills-part-2-7/
X-WR-CALDESC:Minor Ailments in Primary Care and Clinical Examination
BEGIN:VEVENT
DTSTART;TZID=Europe/Paris:20241111T090000
DTEND;TZID=Europe/Paris:20241111T170000
SUMMARY:Minor Ailments in Primary Care and Clinical Examination
DESCRIPTION:THIS EVENT IS A FACE-TO-FACE SESSION Novo Nordisk, Lupin Healthcare, Orion Pharma and Aspire Pharma have provided sponsorship to MORPh Consultancy Ltd to cover the cost of venue hire and subsistence for this meeting. Novo Nordisk has had no influence over the meeting agenda or arrangements.
URL:https://morphold.kaamdaar.com/product/acute-illness-and-clinical-skills-part-2-7/
LOCATION:Valley Conferencing, Fourfields, Bamber Bridge, Preston PR5 6GS
END:VEVENT
END:VCALENDAR
