BEGIN:VCALENDAR
VERSION:2.0
PRODID:-//MORPh - Primary Care Training Association &amp; Network
CALSCALE:GREGORIAN
METHOD:PUBLISH
X-WR-CALNAME:MORPh - Primary Care Training Association &amp; Network
X-ORIGINAL-URL:https://morphold.kaamdaar.com/product/acute-illness-and-clinical-skills-part-2-9/
X-WR-CALDESC:Minor Ailments in Primary Care and Clinical Examination
BEGIN:VEVENT
DTSTART;TZID=Europe/Paris:20241126T090000
DTEND;TZID=Europe/Paris:20241126T170000
SUMMARY:Minor Ailments in Primary Care and Clinical Examination
DESCRIPTION:THIS EVENT IS A FACE-TO-FACE SESSION
URL:https://morphold.kaamdaar.com/product/acute-illness-and-clinical-skills-part-2-9/
LOCATION:Holiday Inn Leeds - Brighouse, Clifton Village, HD6 4HW
END:VEVENT
END:VCALENDAR
