BEGIN:VCALENDAR
VERSION:2.0
PRODID:-//MORPh - Primary Care Training Association &amp; Network
CALSCALE:GREGORIAN
METHOD:PUBLISH
X-WR-CALNAME:MORPh - Primary Care Training Association &amp; Network
X-ORIGINAL-URL:https://morphold.kaamdaar.com/product/management-of-common-gi-conditions-in-primary-care-copy/
X-WR-CALDESC:Management of Common GI Conditions in Primary Care
BEGIN:VEVENT
DTSTART;TZID=Europe/Paris:20241015T123000
DTEND;TZID=Europe/Paris:20241015T143000
SUMMARY:Management of Common GI Conditions in Primary Care
DESCRIPTION:This training session is a webinar which will be hosted through Zoom. Joining instructions for the session will be emailed out to delegates around a day before it is due to take place.
URL:https://morphold.kaamdaar.com/product/management-of-common-gi-conditions-in-primary-care-copy/
LOCATION:UK
END:VEVENT
END:VCALENDAR
