BEGIN:VCALENDAR
VERSION:2.0
PRODID:-//MORPh - Primary Care Training Association &amp; Network
CALSCALE:GREGORIAN
METHOD:PUBLISH
X-WR-CALNAME:MORPh - Primary Care Training Association &amp; Network
X-ORIGINAL-URL:https://morphold.kaamdaar.com/product/enhancing-diabetes-care-in-the-uk-integrating-specialised-clinics-patient-centred-models-and-quality-metrics-for-optimal-outcomes/
X-WR-CALDESC:Diabetes, CKD &#038; Obesity in Primary Care
BEGIN:VEVENT
DTSTART;TZID=Europe/Paris:20241021T090000
DTEND;TZID=Europe/Paris:20241021T170000
SUMMARY:Diabetes, CKD & Obesity in Primary Care
DESCRIPTION:THIS EVENT IS A FACE-TO-FACE SESSION
URL:https://morphold.kaamdaar.com/product/enhancing-diabetes-care-in-the-uk-integrating-specialised-clinics-patient-centred-models-and-quality-metrics-for-optimal-outcomes/
LOCATION:Holiday Inn Birmingham - Bromsgrove Kidderminster Road, Bromsgrove, Worcestershire B61 9AB, United Kingdom
END:VEVENT
END:VCALENDAR
