BEGIN:VCALENDAR
VERSION:2.0
PRODID:-//MORPh - Primary Care Training Association &amp; Network
CALSCALE:GREGORIAN
METHOD:PUBLISH
X-WR-CALNAME:MORPh - Primary Care Training Association &amp; Network
X-ORIGINAL-URL:https://morphold.kaamdaar.com/product/patient-counselling-respiratory-devices-and-medications/
X-WR-CALDESC:Patient Counselling &#8211; Respiratory Devices and Medications
BEGIN:VEVENT
DTSTART;TZID=Europe/Paris:20241118T093000
DTEND;TZID=Europe/Paris:20241118T123000
SUMMARY:Patient Counselling – Respiratory Devices and Medications
DESCRIPTION:
URL:https://morphold.kaamdaar.com/product/patient-counselling-respiratory-devices-and-medications/
LOCATION:UK (Open to all Regions)
END:VEVENT
END:VCALENDAR
