BEGIN:VCALENDAR
VERSION:2.0
PRODID:-//MORPh - Primary Care Training Association &amp; Network
CALSCALE:GREGORIAN
METHOD:PUBLISH
X-WR-CALNAME:MORPh - Primary Care Training Association &amp; Network
X-ORIGINAL-URL:https://morphold.kaamdaar.com/product/appropriate-prescribing-of-antibiotics-including-dermatology-utis-3/
X-WR-CALDESC:Appropriate Prescribing of Antibiotics Including Dermatology &#038; UTIs
BEGIN:VEVENT
DTSTART;TZID=Europe/Paris:20241210T093000
DTEND;TZID=Europe/Paris:20241210T123000
SUMMARY:Appropriate Prescribing of Antibiotics Including Dermatology & UTIs
DESCRIPTION:
URL:https://morphold.kaamdaar.com/product/appropriate-prescribing-of-antibiotics-including-dermatology-utis-3/
LOCATION:London (Webinar)
END:VEVENT
END:VCALENDAR
