BEGIN:VCALENDAR
VERSION:2.0
PRODID:-//MORPh - Primary Care Training Association &amp; Network
CALSCALE:GREGORIAN
METHOD:PUBLISH
X-WR-CALNAME:MORPh - Primary Care Training Association &amp; Network
X-ORIGINAL-URL:https://morphold.kaamdaar.com/product/patient-counselling-initiating-insulin/
X-WR-CALDESC:Patient Counselling &#8211; Initiating Insulin
BEGIN:VEVENT
DTSTART;TZID=Europe/Paris:20241204T093000
DTEND;TZID=Europe/Paris:20241204T123000
SUMMARY:Patient Counselling – Initiating Insulin
DESCRIPTION:This training session is a webinar which will be hosted through Zoom. Joining instructions for the session will be emailed out to delegates around a day before it is due to take place.
URL:https://morphold.kaamdaar.com/product/patient-counselling-initiating-insulin/
LOCATION:UK
END:VEVENT
END:VCALENDAR
