BEGIN:VCALENDAR
VERSION:2.0
PRODID:-//MORPh - Primary Care Training Association &amp; Network
CALSCALE:GREGORIAN
METHOD:PUBLISH
X-WR-CALNAME:MORPh - Primary Care Training Association &amp; Network
X-ORIGINAL-URL:https://morphold.kaamdaar.com/product/bone-ra-oa-biologics/
X-WR-CALDESC:Bone, Ra, OA &#038; Biologics in primary Care
BEGIN:VEVENT
DTSTART;TZID=Europe/Paris:20241014T123000
DTEND;TZID=Europe/Paris:20241014T143000
SUMMARY:Bone, Ra, OA & Biologics in primary Care
DESCRIPTION:This training session is a webinar which will be hosted through Zoom. Joining instructions for the session will be emailed out to delegates around a day before it is due to take place.
URL:https://morphold.kaamdaar.com/product/bone-ra-oa-biologics/
LOCATION:UK
END:VEVENT
END:VCALENDAR
