BEGIN:VCALENDAR
VERSION:2.0
PRODID:-//MORPh - Primary Care Training Association &amp; Network
CALSCALE:GREGORIAN
METHOD:PUBLISH
X-WR-CALNAME:MORPh - Primary Care Training Association &amp; Network
X-ORIGINAL-URL:https://morphold.kaamdaar.com/product/chronic-pain-headaches-migraines/
X-WR-CALDESC:Chronic Pain &#8211; Headaches &#038; Migraines
BEGIN:VEVENT
DTSTART;TZID=Europe/Paris:20241202T093000
DTEND;TZID=Europe/Paris:20241202T123000
SUMMARY:Chronic Pain – Headaches & Migraines
DESCRIPTION:
URL:https://morphold.kaamdaar.com/product/chronic-pain-headaches-migraines/
LOCATION:UK
END:VEVENT
END:VCALENDAR
