BEGIN:VCALENDAR
VERSION:2.0
PRODID:-//MORPh - Primary Care Training Association &amp; Network
CALSCALE:GREGORIAN
METHOD:PUBLISH
X-WR-CALNAME:MORPh - Primary Care Training Association &amp; Network
X-ORIGINAL-URL:https://morphold.kaamdaar.com/product/diabetes-academy-module-8-open-to-all/
X-WR-CALDESC:Diabetes Academy Module 8 &#8211; Insulin Initiation – Part 2 (Open to All)
BEGIN:VEVENT
DTSTART;TZID=Europe/Paris:20241010T130000
DTEND;TZID=Europe/Paris:20241010T150000
SUMMARY:Diabetes Academy Module 8 – Insulin Initiation – Part 2 (Open to All)
DESCRIPTION:
URL:https://morphold.kaamdaar.com/product/diabetes-academy-module-8-open-to-all/
LOCATION:UK
END:VEVENT
END:VCALENDAR
