BEGIN:VCALENDAR
VERSION:2.0
PRODID:-//MORPh - Primary Care Training Association &amp; Network
CALSCALE:GREGORIAN
METHOD:PUBLISH
X-WR-CALNAME:MORPh - Primary Care Training Association &amp; Network
X-ORIGINAL-URL:https://morphold.kaamdaar.com/product/lipids-statins/
X-WR-CALDESC:Lipids &#038; Statins
BEGIN:VEVENT
DTSTART;TZID=Europe/Paris:20241106T140000
DTEND;TZID=Europe/Paris:20241106T163000
SUMMARY:Lipids & Statins
DESCRIPTION:
URL:https://morphold.kaamdaar.com/product/lipids-statins/
LOCATION:UK
END:VEVENT
END:VCALENDAR
