BEGIN:VCALENDAR
VERSION:2.0
PRODID:-//MORPh - Primary Care Training Association &amp; Network
CALSCALE:GREGORIAN
METHOD:PUBLISH
X-WR-CALNAME:MORPh - Primary Care Training Association &amp; Network
X-ORIGINAL-URL:https://morphold.kaamdaar.com/product/cvd-risk-and-secondary-prevention/
X-WR-CALDESC:CVD Risk and Secondary Prevention
BEGIN:VEVENT
DTSTART;TZID=Europe/Paris:20241120T130000
DTEND;TZID=Europe/Paris:20241120T140000
SUMMARY:CVD Risk and Secondary Prevention
DESCRIPTION:
URL:https://morphold.kaamdaar.com/product/cvd-risk-and-secondary-prevention/
LOCATION:UK
END:VEVENT
END:VCALENDAR
