BEGIN:VCALENDAR
VERSION:2.0
PRODID:-//MORPh - Primary Care Training Association &amp; Network
CALSCALE:GREGORIAN
METHOD:PUBLISH
X-WR-CALNAME:MORPh - Primary Care Training Association &amp; Network
X-ORIGINAL-URL:https://morphold.kaamdaar.com/product/doacs-af/
X-WR-CALDESC:DOACs &#038; AF
BEGIN:VEVENT
DTSTART;TZID=Europe/Paris:20241204T123000
DTEND;TZID=Europe/Paris:20241204T133000
SUMMARY:DOACs & AF
DESCRIPTION:
URL:https://morphold.kaamdaar.com/product/doacs-af/
LOCATION:UK
END:VEVENT
END:VCALENDAR
