BEGIN:VCALENDAR
VERSION:2.0
PRODID:-//MORPh - Primary Care Training Association &amp; Network
CALSCALE:GREGORIAN
METHOD:PUBLISH
X-WR-CALNAME:MORPh - Primary Care Training Association &amp; Network
X-ORIGINAL-URL:https://morphold.kaamdaar.com/product/accelerated-diabetes-academy-module-7/
X-WR-CALDESC:Accelerated Diabetes Academy Module 7 (SOLD OUT)
BEGIN:VEVENT
DTSTART;TZID=Europe/Paris:20241112T183000
DTEND;TZID=Europe/Paris:20241112T203000
SUMMARY:Accelerated Diabetes Academy Module 7 (SOLD OUT)
DESCRIPTION:
URL:https://morphold.kaamdaar.com/product/accelerated-diabetes-academy-module-7/
LOCATION:UK
END:VEVENT
END:VCALENDAR
