BEGIN:VCALENDAR
VERSION:2.0
PRODID:-//MORPh - Primary Care Training Association &amp; Network
CALSCALE:GREGORIAN
METHOD:PUBLISH
X-WR-CALNAME:MORPh - Primary Care Training Association &amp; Network
X-ORIGINAL-URL:https://morphold.kaamdaar.com/product/respiratory-academy-module-6-open-to-all/
X-WR-CALDESC:Respiratory Academy &#8211; Module 6 &#8211; Primary Care Respiratory Targets (Open to All)
BEGIN:VEVENT
DTSTART;TZID=Europe/Paris:20250115T123000
DTEND;TZID=Europe/Paris:20250115T150000
SUMMARY:Respiratory Academy – Module 6 – Primary Care Respiratory Targets (Open to All)
DESCRIPTION:
URL:https://morphold.kaamdaar.com/product/respiratory-academy-module-6-open-to-all/
LOCATION:
END:VEVENT
END:VCALENDAR
