BEGIN:VCALENDAR
VERSION:2.0
PRODID:-//MORPh - Primary Care Training Association &amp; Network
CALSCALE:GREGORIAN
METHOD:PUBLISH
X-WR-CALNAME:MORPh - Primary Care Training Association &amp; Network
X-ORIGINAL-URL:https://morphold.kaamdaar.com/product/respiratory-academy-project-support-2-open-to-all/
X-WR-CALDESC:Respiratory Academy &#8211; Project Support 2 (Open to All)
BEGIN:VEVENT
DTSTART;TZID=Europe/Paris:20241105T190000
DTEND;TZID=Europe/Paris:20241105T203000
SUMMARY:Respiratory Academy – Project Support 2 (Open to All)
DESCRIPTION:
URL:https://morphold.kaamdaar.com/product/respiratory-academy-project-support-2-open-to-all/
LOCATION:
END:VEVENT
END:VCALENDAR
