BEGIN:VCALENDAR
VERSION:2.0
PRODID:-//MORPh - Primary Care Training Association &amp; Network
CALSCALE:GREGORIAN
METHOD:PUBLISH
X-WR-CALNAME:MORPh - Primary Care Training Association &amp; Network
X-ORIGINAL-URL:https://morphold.kaamdaar.com/product/excellence-in-cardiovascular-risk-management-a-primary-care-focus-4/
X-WR-CALDESC:Excellence in Cardiovascular Risk Management: A Primary Care Focus
BEGIN:VEVENT
DTSTART;TZID=Europe/Paris:20251112T093000
DTEND;TZID=Europe/Paris:20251112T163000
SUMMARY:Excellence in Cardiovascular Risk Management: A Primary Care Focus
DESCRIPTION:THIS IS A FACE-TO-FACE EVENT
URL:https://morphold.kaamdaar.com/product/excellence-in-cardiovascular-risk-management-a-primary-care-focus-4/
LOCATION:Bristol - Venue TBC
END:VEVENT
END:VCALENDAR
