BEGIN:VCALENDAR
VERSION:2.0
PRODID:-//MORPh - Primary Care Training Association &amp; Network
CALSCALE:GREGORIAN
METHOD:PUBLISH
X-WR-CALNAME:MORPh - Primary Care Training Association &amp; Network
X-ORIGINAL-URL:https://morphold.kaamdaar.com/product/enhancing-clinical-excellence-skills-and-decision-making-in-primary-care-2/
X-WR-CALDESC:MORPh Primary Care Conference – Advancing your Clinical Competence
BEGIN:VEVENT
DTSTART;TZID=Europe/Paris:20250618T093000
DTEND;TZID=Europe/Paris:20250618T163000
SUMMARY:MORPh Primary Care Conference – Advancing your Clinical Competence
DESCRIPTION:THIS IS A FACE-TO-FACE EVENT
URL:https://morphold.kaamdaar.com/product/enhancing-clinical-excellence-skills-and-decision-making-in-primary-care-2/
LOCATION:Leeds - Venue TBC
END:VEVENT
END:VCALENDAR
