BEGIN:VCALENDAR
VERSION:2.0
PRODID:-//MORPh - Primary Care Training Association &amp; Network
CALSCALE:GREGORIAN
METHOD:PUBLISH
X-WR-CALNAME:MORPh - Primary Care Training Association &amp; Network
X-ORIGINAL-URL:https://morphold.kaamdaar.com/product/enhancing-clinical-excellence-skills-and-decision-making-in-primary-care-3/
X-WR-CALDESC:Practical Clinical Skills, Clinical Reasoning and Decision-Making in Primary Care
BEGIN:VEVENT
DTSTART;TZID=Europe/Paris:20250709T093000
DTEND;TZID=Europe/Paris:20250709T163000
SUMMARY:Practical Clinical Skills, Clinical Reasoning and Decision-Making in Primary Care
DESCRIPTION:THIS IS A FACE-TO-FACE EVENT
URL:https://morphold.kaamdaar.com/product/enhancing-clinical-excellence-skills-and-decision-making-in-primary-care-3/
LOCATION:London - Venue TBC
END:VEVENT
END:VCALENDAR
