BEGIN:VCALENDAR
VERSION:2.0
PRODID:-//MORPh - Primary Care Training Association &amp; Network
CALSCALE:GREGORIAN
METHOD:PUBLISH
X-WR-CALNAME:MORPh - Primary Care Training Association &amp; Network
X-ORIGINAL-URL:https://morphold.kaamdaar.com/product/frail-elderly-study-day/
X-WR-CALDESC:Frail Elderly Study Day
BEGIN:VEVENT
DTSTART;TZID=Europe/Paris:20250715T093000
DTEND;TZID=Europe/Paris:20250715T163000
SUMMARY:Frail Elderly Study Day
DESCRIPTION:THIS IS A FACE-TO-FACE EVENT
URL:https://morphold.kaamdaar.com/product/frail-elderly-study-day/
LOCATION:Manchester - Venue TBC
END:VEVENT
END:VCALENDAR
