BEGIN:VCALENDAR
VERSION:2.0
PRODID:-//MORPh - Primary Care Training Association &amp; Network
CALSCALE:GREGORIAN
METHOD:PUBLISH
X-WR-CALNAME:MORPh - Primary Care Training Association &amp; Network
X-ORIGINAL-URL:https://morphold.kaamdaar.com/product/optimizing-respiratory-care-focus-on-inhaler-technique-and-beyond-2/
X-WR-CALDESC:Optimising Respiratory Care
BEGIN:VEVENT
DTSTART;TZID=Europe/Paris:20250402T093000
DTEND;TZID=Europe/Paris:20250402T163000
SUMMARY:Optimising Respiratory Care
DESCRIPTION:THIS IS A FACE-TO-FACE EVENT
URL:https://morphold.kaamdaar.com/product/optimizing-respiratory-care-focus-on-inhaler-technique-and-beyond-2/
LOCATION:Sheffield - Double Tree by Hilton Sheffield Park, Chesterfield Road South, Sheffield, S8 8BW
END:VEVENT
END:VCALENDAR
