BEGIN:VCALENDAR
VERSION:2.0
PRODID:-//MORPh - Primary Care Training Association &amp; Network
CALSCALE:GREGORIAN
METHOD:PUBLISH
X-WR-CALNAME:MORPh - Primary Care Training Association &amp; Network
X-ORIGINAL-URL:https://morphold.kaamdaar.com/product/managing-ckd-patients-in-primary-care-3/
X-WR-CALDESC:Managing CKD Patients in Primary Care
BEGIN:VEVENT
DTSTART;TZID=Europe/Paris:20251104T190000
DTEND;TZID=Europe/Paris:20251104T210000
SUMMARY:Managing CKD Patients in Primary Care
DESCRIPTION:
URL:https://morphold.kaamdaar.com/product/managing-ckd-patients-in-primary-care-3/
LOCATION:UK
END:VEVENT
END:VCALENDAR
