BEGIN:VCALENDAR
VERSION:2.0
PRODID:-//MORPh - Primary Care Training Association &amp; Network
CALSCALE:GREGORIAN
METHOD:PUBLISH
X-WR-CALNAME:MORPh - Primary Care Training Association &amp; Network
X-ORIGINAL-URL:https://morphold.kaamdaar.com/product/dermatology-acne-red-flags-and-differential-diagnosis/
X-WR-CALDESC:Dermatology &#8211; Acne &#8211; Red Flags and Differential Diagnosis
BEGIN:VEVENT
DTSTART;TZID=Europe/Paris:20250128T130000
DTEND;TZID=Europe/Paris:20250128T150000
SUMMARY:Dermatology – Acne – Red Flags and Differential Diagnosis
DESCRIPTION:Click here to book the 26th June  Click here to book the 22nd July 
URL:https://morphold.kaamdaar.com/product/dermatology-acne-red-flags-and-differential-diagnosis/
LOCATION:UK
END:VEVENT
END:VCALENDAR
