BEGIN:VCALENDAR
VERSION:2.0
PRODID:-//MORPh - Primary Care Training Association &amp; Network
CALSCALE:GREGORIAN
METHOD:PUBLISH
X-WR-CALNAME:MORPh - Primary Care Training Association &amp; Network
X-ORIGINAL-URL:https://morphold.kaamdaar.com/product/dementia-in-primary-care/
X-WR-CALDESC:Dementia in Primary Care
BEGIN:VEVENT
DTSTART;TZID=Europe/Paris:20250320T190000
DTEND;TZID=Europe/Paris:20250320T210000
SUMMARY:Dementia in Primary Care
DESCRIPTION:
URL:https://morphold.kaamdaar.com/product/dementia-in-primary-care/
LOCATION:UK
END:VEVENT
END:VCALENDAR
