BEGIN:VCALENDAR
VERSION:2.0
PRODID:-//MORPh - Primary Care Training Association &amp; Network
CALSCALE:GREGORIAN
METHOD:PUBLISH
X-WR-CALNAME:MORPh - Primary Care Training Association &amp; Network
X-ORIGINAL-URL:https://morphold.kaamdaar.com/product/managing-patients-with-chronic-headaches-migraines/
X-WR-CALDESC:Managing Patients with Chronic Headaches &#038; Migraines
BEGIN:VEVENT
DTSTART;TZID=Europe/Paris:20250305T093000
DTEND;TZID=Europe/Paris:20250305T120000
SUMMARY:Managing Patients with Chronic Headaches & Migraines
DESCRIPTION:
URL:https://morphold.kaamdaar.com/product/managing-patients-with-chronic-headaches-migraines/
LOCATION:UK
END:VEVENT
END:VCALENDAR
