BEGIN:VCALENDAR
VERSION:2.0
PRODID:-//MORPh - Primary Care Training Association &amp; Network
CALSCALE:GREGORIAN
METHOD:PUBLISH
X-WR-CALNAME:MORPh - Primary Care Training Association &amp; Network
X-ORIGINAL-URL:https://morphold.kaamdaar.com/product/managing-patients-with-chronic-headaches-migraines-3/
X-WR-CALDESC:Overview of Chronic Pain, differential diagnosis, the psychosocial model, Headache and migraine management
BEGIN:VEVENT
DTSTART;TZID=Europe/Paris:20250904T093000
DTEND;TZID=Europe/Paris:20250904T120000
SUMMARY:Overview of Chronic Pain, differential diagnosis, the psychosocial model, Headache and migraine management
DESCRIPTION:
URL:https://morphold.kaamdaar.com/product/managing-patients-with-chronic-headaches-migraines-3/
LOCATION:UK
END:VEVENT
END:VCALENDAR
