BEGIN:VCALENDAR
VERSION:2.0
PRODID:-//MORPh - Primary Care Training Association &amp; Network
CALSCALE:GREGORIAN
METHOD:PUBLISH
X-WR-CALNAME:MORPh - Primary Care Training Association &amp; Network
X-ORIGINAL-URL:https://morphold.kaamdaar.com/product/new-lipids-guidelines-webinar/
X-WR-CALDESC:Lipids Guidelines Masterclass Part 1
BEGIN:VEVENT
DTSTART;TZID=Europe/Paris:20250130T190000
DTEND;TZID=Europe/Paris:20250130T210000
SUMMARY:Lipids Guidelines Masterclass Part 1
DESCRIPTION:Click here to book Part 2 Click here to book Part 3  Click Here to book Part 4 
URL:https://morphold.kaamdaar.com/product/new-lipids-guidelines-webinar/
LOCATION:UK
END:VEVENT
END:VCALENDAR
