BEGIN:VCALENDAR
VERSION:2.0
PRODID:-//MORPh - Primary Care Training Association &amp; Network
CALSCALE:GREGORIAN
METHOD:PUBLISH
X-WR-CALNAME:MORPh - Primary Care Training Association &amp; Network
X-ORIGINAL-URL:https://morphold.kaamdaar.com/product/new-lipids-guidelines/
X-WR-CALDESC:Lipids Guidelines Masterclass Part 2
BEGIN:VEVENT
DTSTART;TZID=Europe/Paris:20250326T190000
DTEND;TZID=Europe/Paris:20250326T210000
SUMMARY:Lipids Guidelines Masterclass Part 2
DESCRIPTION:Click here to book Part 1 Click here to book Part 3  Click Here to book Part 4 
URL:https://morphold.kaamdaar.com/product/new-lipids-guidelines/
LOCATION:UK
END:VEVENT
END:VCALENDAR
