BEGIN:VCALENDAR
VERSION:2.0
PRODID:-//MORPh - Primary Care Training Association &amp; Network
CALSCALE:GREGORIAN
METHOD:PUBLISH
X-WR-CALNAME:MORPh - Primary Care Training Association &amp; Network
X-ORIGINAL-URL:https://morphold.kaamdaar.com/product/respiratory-implementation-of-new-nice-guidance-3/
X-WR-CALDESC:Respiratory &#8211; Implementation of New NICE Guidance
BEGIN:VEVENT
DTSTART;TZID=Europe/Paris:20251112T130000
DTEND;TZID=Europe/Paris:20251112T150000
SUMMARY:Respiratory – Implementation of New NICE Guidance
DESCRIPTION:
URL:https://morphold.kaamdaar.com/product/respiratory-implementation-of-new-nice-guidance-3/
LOCATION:UK
END:VEVENT
END:VCALENDAR
