BEGIN:VCALENDAR
VERSION:2.0
PRODID:-//MORPh - Primary Care Training Association &amp; Network
CALSCALE:GREGORIAN
METHOD:PUBLISH
X-WR-CALNAME:MORPh - Primary Care Training Association &amp; Network
X-ORIGINAL-URL:https://morphold.kaamdaar.com/product/gi-managing-patients-with-nasogastric-tubes/
X-WR-CALDESC:Gastroenterology in Primary Care
BEGIN:VEVENT
DTSTART;TZID=Europe/Paris:20250619T123000
DTEND;TZID=Europe/Paris:20250619T150000
SUMMARY:Gastroenterology in Primary Care
DESCRIPTION:
URL:https://morphold.kaamdaar.com/product/gi-managing-patients-with-nasogastric-tubes/
LOCATION:UK
END:VEVENT
END:VCALENDAR
