BEGIN:VCALENDAR
VERSION:2.0
PRODID:-//MORPh - Primary Care Training Association &amp; Network
CALSCALE:GREGORIAN
METHOD:PUBLISH
X-WR-CALNAME:MORPh - Primary Care Training Association &amp; Network
X-ORIGINAL-URL:https://morphold.kaamdaar.com/product/womens-health-academy/
X-WR-CALDESC:Women&#8217;s Health Academy Module 1 &#8211; Women&#8217;s Health Essentials: Understanding the Menstrual Cycle, Physiology, and Pathophysiology
BEGIN:VEVENT
DTSTART;TZID=Europe/Paris:20250306T190000
DTEND;TZID=Europe/Paris:20250306T210000
SUMMARY:Women’s Health Academy Module 1 – Women’s Health Essentials: Understanding the Menstrual Cycle, Physiology, and Pathophysiology
DESCRIPTION:
URL:https://morphold.kaamdaar.com/product/womens-health-academy/
LOCATION:UK
END:VEVENT
END:VCALENDAR
