BEGIN:VCALENDAR
VERSION:2.0
PRODID:-//MORPh - Primary Care Training Association &amp; Network
CALSCALE:GREGORIAN
METHOD:PUBLISH
X-WR-CALNAME:MORPh - Primary Care Training Association &amp; Network
X-ORIGINAL-URL:https://morphold.kaamdaar.com/product/womens-health-academy-module-6-patient-stories-in-womens-health-lessons-from-best-practices-gaps-in-care-and-navigating-between-primary-secondary-care/
X-WR-CALDESC:Women&#8217;s Health Academy &#8211; Module 6 &#8211; Patient Stories in Women&#8217;s Health: Lessons from Best Practices, Gaps in Care, and Navigating Between Primary &#038; Secondary Care
BEGIN:VEVENT
DTSTART;TZID=Europe/Paris:20250403T190000
DTEND;TZID=Europe/Paris:20250403T210000
SUMMARY:Women’s Health Academy – Module 6 – Patient Stories in Women’s Health: Lessons from Best Practices, Gaps in Care, and Navigating Between Primary & Secondary Care
DESCRIPTION:
URL:https://morphold.kaamdaar.com/product/womens-health-academy-module-6-patient-stories-in-womens-health-lessons-from-best-practices-gaps-in-care-and-navigating-between-primary-secondary-care/
LOCATION:UK
END:VEVENT
END:VCALENDAR
