BEGIN:VCALENDAR
VERSION:2.0
PRODID:-//MORPh - Primary Care Training Association &amp; Network
CALSCALE:GREGORIAN
METHOD:PUBLISH
X-WR-CALNAME:MORPh - Primary Care Training Association &amp; Network
X-ORIGINAL-URL:https://morphold.kaamdaar.com/product/womens-health-academy-qi-projects-and-peer-support-session/
X-WR-CALDESC:Women&#8217;s Health Academy &#8211; QI Projects and PEER Support Session
BEGIN:VEVENT
DTSTART;TZID=Europe/Paris:20250327T190000
DTEND;TZID=Europe/Paris:20250327T210000
SUMMARY:Women’s Health Academy – QI Projects and PEER Support Session
DESCRIPTION:
URL:https://morphold.kaamdaar.com/product/womens-health-academy-qi-projects-and-peer-support-session/
LOCATION:UK
END:VEVENT
END:VCALENDAR
