BEGIN:VCALENDAR
VERSION:2.0
PRODID:-//MORPh - Primary Care Training Association &amp; Network
CALSCALE:GREGORIAN
METHOD:PUBLISH
X-WR-CALNAME:MORPh - Primary Care Training Association &amp; Network
X-ORIGINAL-URL:https://morphold.kaamdaar.com/product/heart-failure/
X-WR-CALDESC:Heart Failure
BEGIN:VEVENT
DTSTART;TZID=Europe/Paris:20250204T130000
DTEND;TZID=Europe/Paris:20250204T140000
SUMMARY:Heart Failure
DESCRIPTION:
URL:https://morphold.kaamdaar.com/product/heart-failure/
LOCATION:Nottingham City Care
END:VEVENT
END:VCALENDAR
